BEGIN:VCALENDAR
VERSION:2.0
PRODID:-//Visit The Hershey Story Museum - ECPv6.15.15//NONSGML v1.0//EN
CALSCALE:GREGORIAN
METHOD:PUBLISH
X-WR-CALNAME:Visit The Hershey Story Museum
X-ORIGINAL-URL:https://hersheystory.org
X-WR-CALDESC:Events for Visit The Hershey Story Museum
REFRESH-INTERVAL;VALUE=DURATION:PT1H
X-Robots-Tag:noindex
X-PUBLISHED-TTL:PT1H
BEGIN:VTIMEZONE
TZID:America/New_York
BEGIN:DAYLIGHT
TZOFFSETFROM:-0500
TZOFFSETTO:-0400
TZNAME:EDT
DTSTART:20150308T070000
END:DAYLIGHT
BEGIN:STANDARD
TZOFFSETFROM:-0400
TZOFFSETTO:-0500
TZNAME:EST
DTSTART:20151101T060000
END:STANDARD
BEGIN:DAYLIGHT
TZOFFSETFROM:-0500
TZOFFSETTO:-0400
TZNAME:EDT
DTSTART:20160313T070000
END:DAYLIGHT
BEGIN:STANDARD
TZOFFSETFROM:-0400
TZOFFSETTO:-0500
TZNAME:EST
DTSTART:20161106T060000
END:STANDARD
BEGIN:DAYLIGHT
TZOFFSETFROM:-0500
TZOFFSETTO:-0400
TZNAME:EDT
DTSTART:20170312T070000
END:DAYLIGHT
BEGIN:STANDARD
TZOFFSETFROM:-0400
TZOFFSETTO:-0500
TZNAME:EST
DTSTART:20171105T060000
END:STANDARD
END:VTIMEZONE
BEGIN:VEVENT
DTSTART;TZID=America/New_York:20161115T140000
DTEND;TZID=America/New_York:20161115T144500
DTSTAMP:20260420T205257
CREATED:20160812T202757Z
LAST-MODIFIED:20161017T154114Z
UID:10010507-1479218400-1479221100@hersheystory.org
SUMMARY:Chocolate Lab class starting at 2:00 p.m.
DESCRIPTION:Chocolate Lab tickets are available on a first come – first served basis and may be purchased at The Hershey Story admissions desk on the day of the class. Space is limited. Children must be at least 4 years old to enter the Lab.  \n2:00 to 2:45 p.m.\nMake a Very Merry Bar\nMold and customize your own milk chocolate bar using edible holiday decorations. Learn Milton Hershey’s inspirational “rags-to-riches” story and the details surrounding the chocolate-making process.
URL:https://hersheystory.org/hershey-story-event/chocolate-lab-classes-starting-at-1145-a-m-and-200-p-m-129/
LOCATION:chocolate lab
CATEGORIES:Chocolate Lab
END:VEVENT
END:VCALENDAR