BEGIN:VCALENDAR
VERSION:2.0
PRODID:-//Visit The Hershey Story Museum - ECPv6.15.15//NONSGML v1.0//EN
CALSCALE:GREGORIAN
METHOD:PUBLISH
X-WR-CALNAME:Visit The Hershey Story Museum
X-ORIGINAL-URL:https://hersheystory.org
X-WR-CALDESC:Events for Visit The Hershey Story Museum
REFRESH-INTERVAL;VALUE=DURATION:PT1H
X-Robots-Tag:noindex
X-PUBLISHED-TTL:PT1H
BEGIN:VTIMEZONE
TZID:America/New_York
BEGIN:DAYLIGHT
TZOFFSETFROM:-0500
TZOFFSETTO:-0400
TZNAME:EDT
DTSTART:20250309T070000
END:DAYLIGHT
BEGIN:STANDARD
TZOFFSETFROM:-0400
TZOFFSETTO:-0500
TZNAME:EST
DTSTART:20251102T060000
END:STANDARD
BEGIN:DAYLIGHT
TZOFFSETFROM:-0500
TZOFFSETTO:-0400
TZNAME:EDT
DTSTART:20260308T070000
END:DAYLIGHT
BEGIN:STANDARD
TZOFFSETFROM:-0400
TZOFFSETTO:-0500
TZNAME:EST
DTSTART:20261101T060000
END:STANDARD
BEGIN:DAYLIGHT
TZOFFSETFROM:-0500
TZOFFSETTO:-0400
TZNAME:EDT
DTSTART:20270314T070000
END:DAYLIGHT
BEGIN:STANDARD
TZOFFSETFROM:-0400
TZOFFSETTO:-0500
TZNAME:EST
DTSTART:20271107T060000
END:STANDARD
END:VTIMEZONE
BEGIN:VEVENT
DTSTART;TZID=America/New_York:20260505T110000
DTEND;TZID=America/New_York:20260505T163000
DTSTAMP:20260419T160552
CREATED:20260204T181427Z
LAST-MODIFIED:20260204T181427Z
UID:10026299-1777978800-1777998600@hersheystory.org
SUMMARY:Tastings: Chocolates from around the world! Open daily from 11:00am to 4:30pm
DESCRIPTION:Enjoy a flight of warm drinking chocolates from around the world! \nFrom fruity African chocolate flavors to Indonesian chocolate with caramel overtones\, come hone your skills as a cocoa connoisseur… or simply enjoy a taste of indulgence. Tastings at The Hershey Story is a treat for your taste buds and the perfect way to immerse yourself in the sweet world that inspired Milton Hershey. \nTimed tickets can be purchased  at the Admissions desk the day of your visit.   See the drinking chocolates we offer here. \n\nFull flights (our six different drinking chocolates)  $13.00\nHalf flights (your choice of three drinking chocolates) $8.00\nTastings for Kids: make your own hot chocolate  $8.00\nSeasonal Drinks (limited times) $9.00\nSingle origin cups $9.00
URL:https://hersheystory.org/hershey-story-event/tastings-chocolates-from-around-the-world-open-daily-from-1100am-to-430pm-7/2026-05-05/
END:VEVENT
BEGIN:VEVENT
DTSTART;TZID=America/New_York:20260505T114500
DTEND;TZID=America/New_York:20260505T144500
DTSTAMP:20260419T160552
CREATED:20260204T175402Z
LAST-MODIFIED:20260204T175402Z
UID:10026288-1777981500-1777992300@hersheystory.org
SUMMARY:Chocolate Lab Classes beginning at 11:45am and 2:00pm
DESCRIPTION:Chocolate Lab tickets are available on a first come – first served basis and may be purchased at The Hershey Story admissions desk on the day of your visit. Classes are 45 minutes long.  Please note that\, depending on seats availability\, more than one family could be seated at the same table and big groups may be split. Children must be at least 5 years old to enter the Lab. Children under the age of 13 must be accompanied by a paying adult. The Lab schedule\, and ingredients used in each class are subject to last minute changes. No foods or beverages will be permitted in the Lab. Only service animals will be allowed in the classroom. \n  \n11:45am to 12:30pm\nArt of Chocolate \nWhether it’s milk\, white or dark\, making chocolate is a work of art. Learn the origin of chocolate and what are the ingredients used in each of its varieties. While getting the inside scoop on what makes chocolate so tasty\, you will create your own “artwork” using three types of chocolates. \nIngredients: melted milk and white chocolate\, dark chocolate chips. \n  \n2:00pm to 2:45pm\nPlanet Chocolate \nLearn some delicious geography by finding out more about the many places around the globe where cocoa beans are grown. You will be guided to recognize differences in cocoa beans’ appearance and taste. You will also make your own unique bar to take home! \nIngredients: melted milk chocolate\, cocoa nibs\, crushed red pepper\, cinnamon
URL:https://hersheystory.org/hershey-story-event/chocolate-lab-classes-beginning-at-1145am-and-200pm-49/2026-05-05/
CATEGORIES:Chocolate Lab
END:VEVENT
BEGIN:VEVENT
DTSTART;TZID=America/New_York:20260505T140000
DTEND;TZID=America/New_York:20260505T153000
DTSTAMP:20260419T160552
CREATED:20260302T201109Z
LAST-MODIFIED:20260305T135350Z
UID:10026389-1777989600-1777995000@hersheystory.org
SUMMARY:Book Club: Devil in the White City
DESCRIPTION:Join The Hershey Story Museum for our inaugural book club!\nThe Devil in the White City: Murder\, Magic\, and Madness at the Fair That Changed America\n\nEric Larson’s tale of the 1893 World’s Fair in Chicago intertwines the grandeur of the Fair with the gruesome actions of a serial killer. The historical characters in this non-fiction work come to life through Larson’s detailed prose\, a style that stems from his meticulous research and desire to humanize the past. He says\, “I really don’t consider myself a historian. I consider myself a writer who writes historical stories\, true stories\, but my interest is in the story. That’s why my subjects are all over the place. I don’t stick to any one field because I go where the story is\, and my goal is that people will so sink into the action of the book that afterward they will have a sense of maybe having lived in that time and\, if not\, they will at least have experienced the action in almost a visceral way. So that’s the goal.” \nAnd although he’s not mentioned in the book\, the impact of the Fair on Milton Hershey is part of the historical backdrop of the era portrayed in the novel. \nSelect either the afternoon session from 2:00 – 3:30 p.m.\, or the evening session from 7:00 – 8:30 p.m. This event is free\, but seating is limited and registration is required here.\nDue to mature themes\, participants must be at least 18 years of age.
URL:https://hersheystory.org/hershey-story-event/book-club-devil-in-the-white-city/2026-05-05/1/
END:VEVENT
BEGIN:VEVENT
DTSTART;TZID=America/New_York:20260505T190000
DTEND;TZID=America/New_York:20260505T203000
DTSTAMP:20260419T160552
CREATED:20260302T201109Z
LAST-MODIFIED:20260305T135350Z
UID:10026390-1778007600-1778013000@hersheystory.org
SUMMARY:Book Club: Devil in the White City
DESCRIPTION:Join The Hershey Story Museum for our inaugural book club!\nThe Devil in the White City: Murder\, Magic\, and Madness at the Fair That Changed America\n\nEric Larson’s tale of the 1893 World’s Fair in Chicago intertwines the grandeur of the Fair with the gruesome actions of a serial killer. The historical characters in this non-fiction work come to life through Larson’s detailed prose\, a style that stems from his meticulous research and desire to humanize the past. He says\, “I really don’t consider myself a historian. I consider myself a writer who writes historical stories\, true stories\, but my interest is in the story. That’s why my subjects are all over the place. I don’t stick to any one field because I go where the story is\, and my goal is that people will so sink into the action of the book that afterward they will have a sense of maybe having lived in that time and\, if not\, they will at least have experienced the action in almost a visceral way. So that’s the goal.” \nAnd although he’s not mentioned in the book\, the impact of the Fair on Milton Hershey is part of the historical backdrop of the era portrayed in the novel. \nSelect either the afternoon session from 2:00 – 3:30 p.m.\, or the evening session from 7:00 – 8:30 p.m. This event is free\, but seating is limited and registration is required here.\nDue to mature themes\, participants must be at least 18 years of age.
URL:https://hersheystory.org/hershey-story-event/book-club-devil-in-the-white-city/2026-05-05/2/
END:VEVENT
END:VCALENDAR