BEGIN:VCALENDAR
VERSION:2.0
PRODID:-//Visit The Hershey Story Museum - ECPv6.15.15//NONSGML v1.0//EN
CALSCALE:GREGORIAN
METHOD:PUBLISH
X-ORIGINAL-URL:https://hersheystory.org
X-WR-CALDESC:Events for Visit The Hershey Story Museum
REFRESH-INTERVAL;VALUE=DURATION:PT1H
X-Robots-Tag:noindex
X-PUBLISHED-TTL:PT1H
BEGIN:VTIMEZONE
TZID:America/New_York
BEGIN:DAYLIGHT
TZOFFSETFROM:-0500
TZOFFSETTO:-0400
TZNAME:EDT
DTSTART:20250309T070000
END:DAYLIGHT
BEGIN:STANDARD
TZOFFSETFROM:-0400
TZOFFSETTO:-0500
TZNAME:EST
DTSTART:20251102T060000
END:STANDARD
BEGIN:DAYLIGHT
TZOFFSETFROM:-0500
TZOFFSETTO:-0400
TZNAME:EDT
DTSTART:20260308T070000
END:DAYLIGHT
BEGIN:STANDARD
TZOFFSETFROM:-0400
TZOFFSETTO:-0500
TZNAME:EST
DTSTART:20261101T060000
END:STANDARD
BEGIN:DAYLIGHT
TZOFFSETFROM:-0500
TZOFFSETTO:-0400
TZNAME:EDT
DTSTART:20270314T070000
END:DAYLIGHT
BEGIN:STANDARD
TZOFFSETFROM:-0400
TZOFFSETTO:-0500
TZNAME:EST
DTSTART:20271107T060000
END:STANDARD
END:VTIMEZONE
BEGIN:VEVENT
DTSTART;TZID=America/New_York:20260617T100000
DTEND;TZID=America/New_York:20260617T121500
DTSTAMP:20260421T095810
CREATED:20260227T141619Z
LAST-MODIFIED:20260227T141619Z
UID:10026358-1781690400-1781698500@hersheystory.org
SUMMARY:Chocolate Lab Classes beginning at 10:00am and 11:30am
DESCRIPTION:Chocolate Lab tickets are available on a first come – first served basis and may be purchased at The Hershey Story admissions desk on the day of your visit. Classes are 45 minutes long.  Please note that\, depending on seats availability\, more than one family could be seated at the same table and big groups may be split. Children must be at least 5 years old to enter the Lab. Children under the age of 13 must be accompanied by a paying adult. The Lab schedule\, and ingredients used in each class are subject to last minute changes. No foods or beverages will be permitted in the Lab. Only service animals will be allowed in the classroom. \n  \n10:00am to 10:45am\nChocolate Medallions \nMilton Hershey developed his unique formula using a hand-selected blend of cocoa beans. Discover where this fruit comes from\, and how it is harvested and processed to become the chocolate we all love. Choose from a variety of ingredients and design your own flavorful chocolate treat. \nIngredients: melted milk chocolate\, a variety of toppings including seasonal sprinkles\, cocoa nibs\, mini marshmallows\, white chocolate chips\, crushed pretzels\, etc. \n  \n11:30am to 12:15pm\nS’mores Galore  \nHave some summer fun as you make your own\, sweet variation on S’mores (without the fire\, of course).  Learn the origins of this campfire confection and some Hershey’s trivia. You’ll also learn about chocolate from tree to graham cracker. \nIngredients: melted milk chocolate\, mini marshmallows\, crushed graham crackers.
URL:https://hersheystory.org/hershey-story-event/chocolate-lab-classes-beginning-at-1000am-and-1130am/
CATEGORIES:Chocolate Lab
END:VEVENT
END:VCALENDAR