BEGIN:VCALENDAR
VERSION:2.0
PRODID:-//Visit The Hershey Story Museum - ECPv6.15.15//NONSGML v1.0//EN
CALSCALE:GREGORIAN
METHOD:PUBLISH
X-ORIGINAL-URL:https://hersheystory.org
X-WR-CALDESC:Events for Visit The Hershey Story Museum
REFRESH-INTERVAL;VALUE=DURATION:PT1H
X-Robots-Tag:noindex
X-PUBLISHED-TTL:PT1H
BEGIN:VTIMEZONE
TZID:America/New_York
BEGIN:DAYLIGHT
TZOFFSETFROM:-0500
TZOFFSETTO:-0400
TZNAME:EDT
DTSTART:20140309T070000
END:DAYLIGHT
BEGIN:STANDARD
TZOFFSETFROM:-0400
TZOFFSETTO:-0500
TZNAME:EST
DTSTART:20141102T060000
END:STANDARD
BEGIN:DAYLIGHT
TZOFFSETFROM:-0500
TZOFFSETTO:-0400
TZNAME:EDT
DTSTART:20150308T070000
END:DAYLIGHT
BEGIN:STANDARD
TZOFFSETFROM:-0400
TZOFFSETTO:-0500
TZNAME:EST
DTSTART:20151101T060000
END:STANDARD
BEGIN:DAYLIGHT
TZOFFSETFROM:-0500
TZOFFSETTO:-0400
TZNAME:EDT
DTSTART:20160313T070000
END:DAYLIGHT
BEGIN:STANDARD
TZOFFSETFROM:-0400
TZOFFSETTO:-0500
TZNAME:EST
DTSTART:20161106T060000
END:STANDARD
END:VTIMEZONE
BEGIN:VEVENT
DTSTART;TZID=America/New_York:20150806T133000
DTEND;TZID=America/New_York:20150806T153000
DTSTAMP:20260422T144149
CREATED:20150623T143347Z
LAST-MODIFIED:20150623T143720Z
UID:10013401-1438867800-1438875000@hersheystory.org
SUMMARY:Thrilling Thursdays! - Peanut Butter Time!
DESCRIPTION:Free! Join us on Thursday afternoon to celebrate the key ingredient of Hershey’s most popular product—Reese’s Peanut Butter cups! Fashion a flower or animal pal out of a miniature Reese’s Peanut Butter cup. Learn how peanuts grow and plant one to take home. Activities are designed especially for children ages 4 through 10 and their families. \nThemes each week include:\nJuly 9 – Old-Fashioned Fun\nJuly 16 – Meet Mr. Hershey\nJuly 23 – Chocolate Factory Follies\nJuly 30 – Travels with the Hersheys\nAugust 6 – Peanut Butter Time!\nAugust 13 – Chocolate-Covered Thursday
URL:https://hersheystory.org/hershey-story-event/thrilling-thursdays-peanut-butter-time/
LOCATION:The Hershey Story
CATEGORIES:Special Events,Thrilling Thursdays!
END:VEVENT
BEGIN:VEVENT
DTSTART;TZID=America/New_York:20150730T133000
DTEND;TZID=America/New_York:20150730T153000
DTSTAMP:20260422T144149
CREATED:20150603T174259Z
LAST-MODIFIED:20150623T143129Z
UID:10010030-1438263000-1438270200@hersheystory.org
SUMMARY:Thrilling Thursdays! - Travels with the Hersheys
DESCRIPTION:Free! Join us on Thursday afternoon for special activities highlighting unique aspects of The Hershey Story. Find out about the places that Milton and Catherine Hershey visited by automobile\, boat and train. Make a miniature boat to sail and your own travel diary. Activities are designed especially for children ages 4 through 10 and their families. \nThemes each week include: \nJuly 9 – Old-Fashioned Fun \nJuly 16 – Meet Mr. Hershey \nJuly 23 – Chocolate Factory Follies \nJuly 30 – Travels with the Hersheys \nAugust 6 – Peanut Butter Time! \nAugust 13 – Chocolate-Covered Thursday
URL:https://hersheystory.org/hershey-story-event/thrilling-thursdays-4/
LOCATION:The Hershey Story
CATEGORIES:Special Events,Thrilling Thursdays!
END:VEVENT
BEGIN:VEVENT
DTSTART;TZID=America/New_York:20150723T133000
DTEND;TZID=America/New_York:20150723T153000
DTSTAMP:20260422T144149
CREATED:20150603T174233Z
LAST-MODIFIED:20150623T143057Z
UID:10010339-1437658200-1437665400@hersheystory.org
SUMMARY:Thrilling Thursdays! - Chocolate Factory Follies
DESCRIPTION:Free! Join us on Thursday afternoon for special activities highlighting unique aspects of The Hershey Story. You can make a factory worker hat and try sorting products on a real conveyor belt from the chocolate factory. Use games and puzzles to find out more about factory workers and chocolate making. Activities are designed especially for children ages 4 through 10 and their families. \nThemes each week include: \nJuly 9 – Old-Fashioned Fun \nJuly 16 – Meet Mr. Hershey \nJuly 23 – Chocolate Factory Follies \nJuly 30 – Travels with the Hersheys \nAugust 6 – Peanut Butter Time! \nAugust 13 – Chocolate-Covered Thursday
URL:https://hersheystory.org/hershey-story-event/thrilling-thursdays-3/
LOCATION:The Hershey Story
CATEGORIES:Special Events,Thrilling Thursdays!
END:VEVENT
BEGIN:VEVENT
DTSTART;TZID=America/New_York:20150716T133000
DTEND;TZID=America/New_York:20150716T153000
DTSTAMP:20260422T144149
CREATED:20150603T174211Z
LAST-MODIFIED:20150623T142850Z
UID:10010238-1437053400-1437060600@hersheystory.org
SUMMARY:Thrilling Thursdays! - Meet Mr. Hershey
DESCRIPTION:Free! Meet Milton S. Hershey—the puppet! Special shows at 2 and 3 p.m. allow kids to meet and chat with the chocolate-maker. In addition\, examine objects such as phonographs and magic lanterns that the Hersheys would have used for entertainment. Make your own puppet to take home. Activities are designed especially for children ages 4 through 10 and their families. \nThemes each week include: \nJuly 9 – Old-Fashioned Fun \nJuly 16 – Meet Mr. Hershey \nJuly 23 – Chocolate Factory Follies \nJuly 30 – Travels with the Hersheys \nAugust 6 – Peanut Butter Time! \nAugust 13 – Chocolate-Covered Thursday
URL:https://hersheystory.org/hershey-story-event/thrilling-thursdays-2/
LOCATION:The Hershey Story
CATEGORIES:Special Events,Thrilling Thursdays!
END:VEVENT
BEGIN:VEVENT
DTSTART;TZID=America/New_York:20150709T133000
DTEND;TZID=America/New_York:20150709T153000
DTSTAMP:20260422T144149
CREATED:20150603T174150Z
LAST-MODIFIED:20150706T181747Z
UID:10010145-1436448600-1436455800@hersheystory.org
SUMMARY:Thrilling Thursdays! - Old Fashioned Fun
DESCRIPTION:Free! Join us on Thursday afternoon for special activities highlighting unique aspects of The Hershey Story. This program includes activities from the 1800s\, when Milton Hershey was just a boy. Guess the function of some everyday objects that were used almost 200 years ago. Try your hand at the art of tin punch and basket weaving and take your projects home. Activities are designed especially for children ages 4 through 10 with adult assistance. \nThemes each week include: \nJuly 9 – Old-Fashioned Fun \nJuly 16 – Meet Mr. Hershey \nJuly 23 – Chocolate Factory Follies \nJuly 30 – Travels with the Hersheys \nAugust 6 – Peanut Butter Time! \nAugust 13 – Chocolate-Covered Thursday
URL:https://hersheystory.org/hershey-story-event/thrilling-thursdays/
LOCATION:The Hershey Story
CATEGORIES:Special Events,Thrilling Thursdays!
END:VEVENT
BEGIN:VEVENT
DTSTART;TZID=America/New_York:20150623T133000
DTEND;TZID=America/New_York:20150623T153000
DTSTAMP:20260422T144149
CREATED:20150623T143527Z
LAST-MODIFIED:20150623T143645Z
UID:10013426-1435066200-1435073400@hersheystory.org
SUMMARY:Thrilling Thursdays! - Chocolate-Covered Thursday
DESCRIPTION:Free! Join us on Thursday afternoon for special activities highlighting unique aspects of The Hershey Story. See\, feel and smell the ingredients of chocolate. Paint a picture with colored chocolate or cocoa shells and create a sculpture with chocolate clay. Activities are designed especially for children ages 4 through 10 and their families. \nThemes each week include: \nJuly 9 – Old-Fashioned Fun\nJuly 16 – Meet Mr. Hershey\nJuly 23 – Chocolate Factory Follies\nJuly 30 – Travels with the Hersheys\nAugust 6 – Peanut Butter Time!\nAugust 13 – Chocolate-Covered Thursday
URL:https://hersheystory.org/hershey-story-event/thrilling-thursdays-chocolate-covered-thursday/
LOCATION:The Hershey Story
CATEGORIES:Special Events,Thrilling Thursdays!
END:VEVENT
END:VCALENDAR