BEGIN:VCALENDAR
VERSION:2.0
PRODID:-//Visit The Hershey Story Museum - ECPv6.15.15//NONSGML v1.0//EN
CALSCALE:GREGORIAN
METHOD:PUBLISH
X-ORIGINAL-URL:https://hersheystory.org
X-WR-CALDESC:Events for Visit The Hershey Story Museum
REFRESH-INTERVAL;VALUE=DURATION:PT1H
X-Robots-Tag:noindex
X-PUBLISHED-TTL:PT1H
BEGIN:VTIMEZONE
TZID:America/New_York
BEGIN:DAYLIGHT
TZOFFSETFROM:-0500
TZOFFSETTO:-0400
TZNAME:EDT
DTSTART:20160313T070000
END:DAYLIGHT
BEGIN:STANDARD
TZOFFSETFROM:-0400
TZOFFSETTO:-0500
TZNAME:EST
DTSTART:20161106T060000
END:STANDARD
BEGIN:DAYLIGHT
TZOFFSETFROM:-0500
TZOFFSETTO:-0400
TZNAME:EDT
DTSTART:20170312T070000
END:DAYLIGHT
BEGIN:STANDARD
TZOFFSETFROM:-0400
TZOFFSETTO:-0500
TZNAME:EST
DTSTART:20171105T060000
END:STANDARD
BEGIN:DAYLIGHT
TZOFFSETFROM:-0500
TZOFFSETTO:-0400
TZNAME:EDT
DTSTART:20180311T070000
END:DAYLIGHT
BEGIN:STANDARD
TZOFFSETFROM:-0400
TZOFFSETTO:-0500
TZNAME:EST
DTSTART:20181104T060000
END:STANDARD
END:VTIMEZONE
BEGIN:VEVENT
DTSTART;TZID=America/New_York:20171120T173000
DTEND;TZID=America/New_York:20171120T193000
DTSTAMP:20260426T004247
CREATED:20170803T224552Z
LAST-MODIFIED:20170809T175842Z
UID:10015649-1511199000-1511206200@hersheystory.org
SUMMARY:Hershey Area - All Things Diversity 5:30 p.m. - 7:30 p.m.
DESCRIPTION:This is a free event\, please register here. \nHershey Area – All Things Diversity is a free series of programs coordinated by Derry Township and The Hershey Story\, The Museum on Chocolate Avenue. The November presentation\, Navigating the Generations: Creating an Inclusive Community for All Ages will be presented by Lynette Chappell-Williams\, Chief Diversity Officer and Associate Dean for Diversity and Inclusion for Penn State Health Milton S. Hershey Medical Center and College of Medicine. \nThe U.S. now has six living generations\, and each has its own attributes based on their collective experiences. Recognizing the needs and interests of each age group helps our community develop strategies to create a more inclusive environment for all\, regardless of age. This session will provide an opportunity to learn more about the general characteristics of each of the age groups and to brainstorm inclusive strategies for different generations. \nLynette Chappell-Williams is a lawyer by training\, but has focused on creating more diverse and inclusive workplaces for the past 18 years. \nFor questions about accessibility or to request accommodations based on a disability\, please contact Amy Bischof at abischof@HersheyStory.org or 717-520-5591. Seven business days advance notice of need for accommodations is requested. \nThis program is underwritten by Penn State Health Milton S. Hershey Medical Center and College of Medicine\, The Hershey Company and Hershey Entertainment and Resorts Company. \nSchedule of Events: \n5:30 p.m. – 6 p.m. Light Dinner \n6 p.m. – 7:15 p.m. Presentation \n7:15 p.m. – 7:25 p.m. Dessert
URL:https://hersheystory.org/hershey-story-event/hershey-area-all-things-diversity-530-p-m-730-p-m-2/
LOCATION:The Hershey Story\, 63 West Chocolate Ave.\, Hershey\, PA\, 17033\, United States
GEO:40.2852271;-76.6523144
X-APPLE-STRUCTURED-LOCATION;VALUE=URI;X-ADDRESS=The Hershey Story 63 West Chocolate Ave. Hershey PA 17033 United States;X-APPLE-RADIUS=500;X-TITLE=63 West Chocolate Ave.:geo:-76.6523144,40.2852271
END:VEVENT
END:VCALENDAR